BEGIN:VCALENDAR
VERSION:2.0
PRODID:icalendar-ruby
CALSCALE:GREGORIAN
METHOD:PUBLISH
BEGIN:VEVENT
DTSTAMP:20260422T104032Z
UID:169-1653@mtziondenverpa.com
DTSTART:20260510T130000Z
DTEND:20260513T230000Z
CLASS:PUBLIC
CREATED:20260415T120043
DESCRIPTION:Join us for our Spring Revival Meeting with Evangelist Tim Thom
 pson on Sunday\, May 10th through Wednesday May 13th. Services Sunday will
  be 9am\, 10am\, and 6pm. Monday through Wednesday at 7pm nightly.\n 
LAST-MODIFIED:20260415T120043
LOCATION:Mt. Zion Baptist Church\, 3 Denver Road\, Denver\, PA 17517
SUMMARY:Spring Revival Meetings
URL;VALUE=URI:https://www.mtziondenverpa.com/events/spring-revival-meetings
 /2026-05-10
ATTACH;FILENAME=Revival-2026-1.png;FMTTYPE=image/png:https://dq5pwpg1q8ru0.
 cloudfront.net/2026/04/15/16/00/43/d58debed-bac4-4570-9a72-ea1870f83689/Re
 vival-2026-1.png
END:VEVENT
END:VCALENDAR
